BEGIN:VCALENDAR
VERSION:2.0
PRODID:-//Saalfelden-Leogang.com//NONSGML kigkonsult.se iCalcreator 2.22.1/
 /EN
METHOD:PUBLISH
X-WR-CALNAME;LANGUAGE=en:Saalfelden-Leogang.com
X-WR-CALDESC;LANGUAGE=en:Saalfelden-Leogang.com
X-WR-TIMEZONE;LANGUAGE=en:Europe/Berlin
BEGIN:VEVENT
UID:20260419T144751CEST-2246BVwHRB@Saalfelden-Leogang.com
DTSTAMP:20260419T124751Z
DESCRIPTION;LANGUAGE=en:Sweden\, Germany\, Netherlands\, Austria\n\n\n\nPet
 ter Eldh - bass \n\nSofia Jernberg - voice \n\nJonas Kulhammar - saxophone
  \n\nKaja Draxler - piano \n\nLukas König - drums \n\n\n\nA lot has happen
 ed in the five years since Berlin-based Swedish bassist Petter Eldh presen
 ted his quintet Koma Saxo for the first time on our main stage in Saalfeld
 en. The electrifying energy of the acoustic ensemble has now developed via
  a reincarnation called “Koma West” into the “culmination of Eldh's sound 
 study\, as the band-info describes it. “Post Koma”\, which is “dynamite” a
 ccording to allaboutjazz\, presents vocalist Sofia Jernberg\, pianist and 
 keyboardist Kaja Draksler and drummer Lukas König alongside Eldh’s longtim
 e Saxo-companion Jonas Kullhammar. All of this has little to do with a “de
 ep state of prolonged unconsciousness'\, but rather with a “music vision t
 hat never second-guesses throwing tasty hooks and everlasting melodies out
  the window after a mere bite of them'.
DTSTART:20240825T164500Z
DTEND:20240825T174500Z
LOCATION;LANGUAGE=en:Congress Saalfelden
SUMMARY;LANGUAGE=en:Post Koma feat. Sofia Jernberg
END:VEVENT
END:VCALENDAR
